Package: ssPATHS Version: 1.21.0 Command: /home/biocbuild/bbs-3.21-bioc/R/bin/R CMD INSTALL ssPATHS StartedAt: 2025-02-20 15:30:41 -0500 (Thu, 20 Feb 2025) EndedAt: 2025-02-20 15:31:04 -0500 (Thu, 20 Feb 2025) EllapsedTime: 22.3 seconds RetCode: 0 Status: OK