Package: ssPATHS Version: 1.21.0 Command: /home/biocbuild/bbs-3.21-bioc/R/bin/R CMD check --install=check:ssPATHS.install-out.txt --library=/home/biocbuild/bbs-3.21-bioc/R/site-library --timings ssPATHS_1.21.0.tar.gz StartedAt: 2025-02-21 02:18:59 -0500 (Fri, 21 Feb 2025) EndedAt: 2025-02-21 02:22:03 -0500 (Fri, 21 Feb 2025) EllapsedTime: 184.3 seconds RetCode: 0 Status: OK CheckDir: ssPATHS.Rcheck Warnings: 0