Package: ssPATHS Version: 1.21.0 Command: /home/biocbuild/bbs-3.21-bioc/R/bin/R CMD build --keep-empty-dirs --no-resave-data ssPATHS StartedAt: 2025-02-20 19:28:51 -0500 (Thu, 20 Feb 2025) EndedAt: 2025-02-20 19:29:26 -0500 (Thu, 20 Feb 2025) EllapsedTime: 35.1 seconds RetCode: 0 Status: OK PackageFile: ssPATHS_1.21.0.tar.gz PackageFileSize: 3.672 MiB