Package: ssPATHS Version: 1.21.0 Command: /Library/Frameworks/R.framework/Resources/bin/R CMD check --install=check:ssPATHS.install-out.txt --library=/Library/Frameworks/R.framework/Resources/library --no-vignettes --timings ssPATHS_1.21.0.tar.gz StartedAt: 2025-02-20 23:35:00 -0500 (Thu, 20 Feb 2025) EndedAt: 2025-02-20 23:38:14 -0500 (Thu, 20 Feb 2025) EllapsedTime: 194.1 seconds RetCode: 0 Status: OK CheckDir: ssPATHS.Rcheck Warnings: 0