Package: ssPATHS Version: 1.21.0 Command: rm -rf ssPATHS.buildbin-libdir && mkdir ssPATHS.buildbin-libdir && /Users/biocbuild/BBS/utils/build-universal.sh ssPATHS_1.21.0.tar.gz /Library/Frameworks/R.framework/Resources/bin/R ssPATHS.buildbin-libdir StartedAt: 2025-02-20 22:37:08 -0500 (Thu, 20 Feb 2025) EndedAt: 2025-02-20 22:37:19 -0500 (Thu, 20 Feb 2025) EllapsedTime: 11.3 seconds RetCode: 0 Status: OK PackageFile: ssPATHS_1.21.0.tgz PackageFileSize: 3.705 MiB