Package: srnadiff Version: 1.27.3 Command: E:\biocbuild\bbs-3.21-bioc\R\bin\R.exe CMD INSTALL srnadiff StartedAt: 2025-02-20 16:38:59 -0500 (Thu, 20 Feb 2025) EndedAt: 2025-02-20 16:41:06 -0500 (Thu, 20 Feb 2025) EllapsedTime: 127.6 seconds RetCode: 0 Status: OK