Package: srnadiff Version: 1.27.3 Command: E:\biocbuild\bbs-3.21-bioc\R\bin\R.exe CMD check --no-multiarch --install=check:srnadiff.install-out.txt --library=E:\biocbuild\bbs-3.21-bioc\R\library --no-vignettes --timings srnadiff_1.27.3.tar.gz StartedAt: 2025-02-21 06:11:56 -0500 (Fri, 21 Feb 2025) EndedAt: 2025-02-21 06:34:22 -0500 (Fri, 21 Feb 2025) EllapsedTime: 1346.6 seconds RetCode: 0 Status: WARNINGS CheckDir: srnadiff.Rcheck Warnings: 1