Package: srnadiff Version: 1.27.3 Command: chmod a+r srnadiff -R && E:\biocbuild\bbs-3.21-bioc\R\bin\R.exe CMD build --keep-empty-dirs --no-resave-data srnadiff StartedAt: 2025-02-20 22:05:09 -0500 (Thu, 20 Feb 2025) EndedAt: 2025-02-20 22:09:23 -0500 (Thu, 20 Feb 2025) EllapsedTime: 254.0 seconds RetCode: 0 Status: OK PackageFile: srnadiff_1.27.3.tar.gz PackageFileSize: 2.419 MiB