Package: srnadiff Version: 1.27.3 Command: rm -rf srnadiff.buildbin-libdir && mkdir srnadiff.buildbin-libdir && E:\biocbuild\bbs-3.21-bioc\R\bin\R.exe CMD INSTALL --build --library=srnadiff.buildbin-libdir srnadiff_1.27.3.tar.gz StartedAt: 2025-02-21 09:12:15 -0500 (Fri, 21 Feb 2025) EndedAt: 2025-02-21 09:13:52 -0500 (Fri, 21 Feb 2025) EllapsedTime: 96.8 seconds RetCode: 0 Status: OK PackageFile: srnadiff_1.27.3.zip PackageFileSize: 3.204 MiB