Package: srnadiff Version: 1.27.3 Command: /Library/Frameworks/R.framework/Resources/bin/R CMD build --keep-empty-dirs --no-resave-data srnadiff StartedAt: 2025-02-20 18:25:13 -0500 (Thu, 20 Feb 2025) EndedAt: 2025-02-20 18:27:28 -0500 (Thu, 20 Feb 2025) EllapsedTime: 134.9 seconds RetCode: 0 Status: OK PackageFile: srnadiff_1.27.3.tar.gz PackageFileSize: 2.425 MiB