Package: srnadiff Version: 1.27.3 Command: rm -rf srnadiff.buildbin-libdir && mkdir srnadiff.buildbin-libdir && /Users/biocbuild/BBS/utils/build-universal.sh srnadiff_1.27.3.tar.gz /Library/Frameworks/R.framework/Resources/bin/R srnadiff.buildbin-libdir StartedAt: 2025-02-21 00:55:51 -0500 (Fri, 21 Feb 2025) EndedAt: 2025-02-21 00:57:25 -0500 (Fri, 21 Feb 2025) EllapsedTime: 94.6 seconds RetCode: 0 Status: OK PackageFile: srnadiff_1.27.3.tgz PackageFileSize: 2.902 MiB