Package: squallms Version: 1.1.0 Command: E:\biocbuild\bbs-3.21-bioc\R\bin\R.exe CMD INSTALL squallms StartedAt: 2025-02-20 16:42:43 -0500 (Thu, 20 Feb 2025) EndedAt: 2025-02-20 16:43:34 -0500 (Thu, 20 Feb 2025) EllapsedTime: 51.4 seconds RetCode: 0 Status: OK