Package: squallms Version: 1.1.0 Command: E:\biocbuild\bbs-3.21-bioc\R\bin\R.exe CMD check --no-multiarch --install=check:squallms.install-out.txt --library=E:\biocbuild\bbs-3.21-bioc\R\library --no-vignettes --timings squallms_1.1.0.tar.gz StartedAt: 2025-02-21 06:11:40 -0500 (Fri, 21 Feb 2025) EndedAt: 2025-02-21 06:21:58 -0500 (Fri, 21 Feb 2025) EllapsedTime: 617.2 seconds RetCode: 0 Status: OK CheckDir: squallms.Rcheck Warnings: 0