Package: squallms Version: 1.1.0 Command: /home/biocbuild/bbs-3.21-bioc/R/bin/R CMD INSTALL squallms StartedAt: 2025-02-21 16:22:59 -0500 (Fri, 21 Feb 2025) EndedAt: 2025-02-21 16:23:43 -0500 (Fri, 21 Feb 2025) EllapsedTime: 43.6 seconds RetCode: 0 Status: OK