Package: squallms Version: 1.1.0 Command: /home/biocbuild/bbs-3.21-bioc/R/bin/R CMD build --keep-empty-dirs --no-resave-data squallms StartedAt: 2025-02-21 19:49:04 -0500 (Fri, 21 Feb 2025) EndedAt: 2025-02-21 19:50:36 -0500 (Fri, 21 Feb 2025) EllapsedTime: 92.1 seconds RetCode: 0 Status: OK PackageFile: squallms_1.1.0.tar.gz PackageFileSize: 2.193 MiB