Package: squallms Version: 1.1.0 Command: /home/biocbuild/R/R/bin/R CMD build --keep-empty-dirs --no-resave-data squallms StartedAt: 2025-01-28 02:43:41 -0000 (Tue, 28 Jan 2025) EndedAt: 2025-01-28 02:45:50 -0000 (Tue, 28 Jan 2025) EllapsedTime: 129.1 seconds RetCode: 0 Status: OK PackageFile: squallms_1.1.0.tar.gz PackageFileSize: 1.79 MiB