Package: spqn Version: 1.19.0 Command: E:\biocbuild\bbs-3.21-bioc\R\bin\R.exe CMD INSTALL spqn StartedAt: 2025-02-17 16:28:16 -0500 (Mon, 17 Feb 2025) EndedAt: 2025-02-17 16:28:48 -0500 (Mon, 17 Feb 2025) EllapsedTime: 31.7 seconds RetCode: 0 Status: OK