Package: spqn Version: 1.19.0 Command: E:\biocbuild\bbs-3.21-bioc\R\bin\R.exe CMD check --no-multiarch --install=check:spqn.install-out.txt --library=E:\biocbuild\bbs-3.21-bioc\R\library --no-vignettes --timings spqn_1.19.0.tar.gz StartedAt: 2025-02-18 05:37:02 -0500 (Tue, 18 Feb 2025) EndedAt: 2025-02-18 05:41:05 -0500 (Tue, 18 Feb 2025) EllapsedTime: 243.4 seconds RetCode: 0 Status: OK CheckDir: spqn.Rcheck Warnings: 0