Package: spqn Version: 1.19.0 Command: chmod a+r spqn -R && E:\biocbuild\bbs-3.21-bioc\R\bin\R.exe CMD build --keep-empty-dirs --no-resave-data spqn StartedAt: 2025-02-17 21:45:25 -0500 (Mon, 17 Feb 2025) EndedAt: 2025-02-17 21:49:13 -0500 (Mon, 17 Feb 2025) EllapsedTime: 228.5 seconds RetCode: 0 Status: OK PackageFile: spqn_1.19.0.tar.gz PackageFileSize: 2.251 MiB