Package: spqn Version: 1.19.0 Command: /home/biocbuild/R/R/bin/R CMD build --keep-empty-dirs --no-resave-data spqn StartedAt: 2025-01-28 02:42:49 -0000 (Tue, 28 Jan 2025) EndedAt: 2025-01-28 02:49:07 -0000 (Tue, 28 Jan 2025) EllapsedTime: 378.2 seconds RetCode: 0 Status: OK PackageFile: spqn_1.19.0.tar.gz PackageFileSize: 2.468 MiB