Package: spqn Version: 1.19.0 Command: /Library/Frameworks/R.framework/Resources/bin/R CMD INSTALL spqn StartedAt: 2025-02-18 15:06:50 -0500 (Tue, 18 Feb 2025) EndedAt: 2025-02-18 15:06:59 -0500 (Tue, 18 Feb 2025) EllapsedTime: 8.7 seconds RetCode: 0 Status: OK