Package: spoon Version: 1.3.2 Command: E:\biocbuild\bbs-3.21-bioc\R\bin\R.exe CMD INSTALL spoon StartedAt: 2025-02-17 16:21:09 -0500 (Mon, 17 Feb 2025) EndedAt: 2025-02-17 16:21:36 -0500 (Mon, 17 Feb 2025) EllapsedTime: 27.5 seconds RetCode: 0 Status: OK