Package: spoon Version: 1.3.1 Command: rm -rf spoon.buildbin-libdir && mkdir spoon.buildbin-libdir && E:\biocbuild\bbs-3.21-bioc\R\bin\R.exe CMD INSTALL --build --library=spoon.buildbin-libdir spoon_1.3.1.tar.gz StartedAt: 2025-01-22 08:40:29 -0500 (Wed, 22 Jan 2025) EndedAt: 2025-01-22 08:40:57 -0500 (Wed, 22 Jan 2025) EllapsedTime: 28.1 seconds RetCode: 0 Status: OK PackageFile: spoon_1.3.1.zip PackageFileSize: 322.1 KiB