Package: spoon Version: 1.3.2 Command: /home/biocbuild/bbs-3.21-bioc/R/bin/R CMD INSTALL spoon StartedAt: 2025-02-17 15:21:40 -0500 (Mon, 17 Feb 2025) EndedAt: 2025-02-17 15:22:02 -0500 (Mon, 17 Feb 2025) EllapsedTime: 22.7 seconds RetCode: 0 Status: OK