Package: spoon Version: 1.3.2 Command: /home/biocbuild/bbs-3.21-bioc/R/bin/R CMD build --keep-empty-dirs --no-resave-data spoon StartedAt: 2025-02-17 19:19:48 -0500 (Mon, 17 Feb 2025) EndedAt: 2025-02-17 19:20:47 -0500 (Mon, 17 Feb 2025) EllapsedTime: 59.1 seconds RetCode: 1 Status: ERROR PackageFile: None PackageFileSize: NA