Package: spoon Version: 1.3.2 Command: /Library/Frameworks/R.framework/Resources/bin/R CMD INSTALL spoon StartedAt: 2025-02-19 15:09:21 -0500 (Wed, 19 Feb 2025) EndedAt: 2025-02-19 15:09:30 -0500 (Wed, 19 Feb 2025) EllapsedTime: 9.3 seconds RetCode: 0 Status: OK