Package: splots Version: 1.73.0 Command: /Library/Frameworks/R.framework/Resources/bin/R CMD check --install=check:splots.install-out.txt --library=/Library/Frameworks/R.framework/Resources/library --no-vignettes --timings splots_1.73.0.tar.gz StartedAt: 2025-02-19 23:31:58 -0500 (Wed, 19 Feb 2025) EndedAt: 2025-02-19 23:32:23 -0500 (Wed, 19 Feb 2025) EllapsedTime: 25.1 seconds RetCode: 0 Status: OK CheckDir: splots.Rcheck Warnings: 0