Package: splots Version: 1.73.0 Command: /home/biocbuild/R/R/bin/R CMD check --install=check:splots.install-out.txt --library=/home/biocbuild/R/R/site-library --no-vignettes --timings splots_1.73.0.tar.gz StartedAt: 2025-01-28 15:42:07 -0000 (Tue, 28 Jan 2025) EndedAt: 2025-01-28 15:42:23 -0000 (Tue, 28 Jan 2025) EllapsedTime: 16.0 seconds RetCode: 0 Status: OK CheckDir: splots.Rcheck Warnings: 0