Package: splots Version: 1.73.0 Command: rm -rf splots.buildbin-libdir && mkdir splots.buildbin-libdir && /Users/biocbuild/BBS/utils/build-universal.sh splots_1.73.0.tar.gz /Library/Frameworks/R.framework/Resources/bin/R splots.buildbin-libdir StartedAt: 2025-02-19 22:40:00 -0500 (Wed, 19 Feb 2025) EndedAt: 2025-02-19 22:40:02 -0500 (Wed, 19 Feb 2025) EllapsedTime: 2.0 seconds RetCode: 0 Status: OK PackageFile: splots_1.73.0.tgz PackageFileSize: 723.9 KiB