Package: splineTimeR Version: 1.35.0 Command: /Library/Frameworks/R.framework/Resources/bin/R CMD build --keep-empty-dirs --no-resave-data splineTimeR StartedAt: 2025-02-20 18:23:52 -0500 (Thu, 20 Feb 2025) EndedAt: 2025-02-20 18:24:37 -0500 (Thu, 20 Feb 2025) EllapsedTime: 45.5 seconds RetCode: 0 Status: OK PackageFile: splineTimeR_1.35.0.tar.gz PackageFileSize: 1.225 MiB