Package: splatter Version: 1.31.0 Command: chmod a+r splatter -R && E:\biocbuild\bbs-3.21-bioc\R\bin\R.exe CMD build --keep-empty-dirs --no-resave-data splatter StartedAt: 2025-02-18 21:47:58 -0500 (Tue, 18 Feb 2025) EndedAt: 2025-02-18 21:53:19 -0500 (Tue, 18 Feb 2025) EllapsedTime: 320.2 seconds RetCode: 0 Status: OK PackageFile: splatter_1.31.0.tar.gz PackageFileSize: 3.577 MiB