Package: spkTools Version: 1.63.0 Command: /home/biocbuild/bbs-3.21-bioc/R/bin/R CMD INSTALL spkTools StartedAt: 2025-02-21 15:56:00 -0500 (Fri, 21 Feb 2025) EndedAt: 2025-02-21 15:56:06 -0500 (Fri, 21 Feb 2025) EllapsedTime: 5.4 seconds RetCode: 0 Status: OK