Package: spkTools Version: 1.63.0 Command: /home/biocbuild/bbs-3.21-bioc/R/bin/R CMD check --install=check:spkTools.install-out.txt --library=/home/biocbuild/bbs-3.21-bioc/R/site-library --timings spkTools_1.63.0.tar.gz StartedAt: 2025-02-22 02:32:29 -0500 (Sat, 22 Feb 2025) EndedAt: 2025-02-22 02:33:52 -0500 (Sat, 22 Feb 2025) EllapsedTime: 83.1 seconds RetCode: 0 Status: OK CheckDir: spkTools.Rcheck Warnings: 0