Package: spkTools Version: 1.63.0 Command: /home/biocbuild/bbs-3.21-bioc/R/bin/R CMD build --keep-empty-dirs --no-resave-data spkTools StartedAt: 2025-02-21 19:47:19 -0500 (Fri, 21 Feb 2025) EndedAt: 2025-02-21 19:47:30 -0500 (Fri, 21 Feb 2025) EllapsedTime: 11.0 seconds RetCode: 0 Status: OK PackageFile: spkTools_1.63.0.tar.gz PackageFileSize: 664.2 KiB