Package: spkTools Version: 1.64.0 Command: /Library/Frameworks/R.framework/Resources/bin/R CMD INSTALL spkTools StartedAt: 2025-10-13 15:24:30 -0400 (Mon, 13 Oct 2025) EndedAt: 2025-10-13 15:24:50 -0400 (Mon, 13 Oct 2025) EllapsedTime: 19.7 seconds RetCode: 0 Status: OK