Package: spkTools Version: 1.63.0 Command: /Library/Frameworks/R.framework/Resources/bin/R CMD INSTALL spkTools StartedAt: 2025-02-21 15:05:15 -0500 (Fri, 21 Feb 2025) EndedAt: 2025-02-21 15:05:39 -0500 (Fri, 21 Feb 2025) EllapsedTime: 24.5 seconds RetCode: 0 Status: OK