Package: spkTools Version: 1.64.0 Command: /Library/Frameworks/R.framework/Resources/bin/R CMD build --keep-empty-dirs --no-resave-data spkTools StartedAt: 2025-09-30 10:09:49 -0400 (Tue, 30 Sep 2025) EndedAt: 2025-09-30 10:10:07 -0400 (Tue, 30 Sep 2025) EllapsedTime: 18.2 seconds RetCode: 0 Status: OK PackageFile: spkTools_1.64.0.tar.gz PackageFileSize: 664.3 KiB