Package: spkTools Version: 1.64.0 Command: rm -rf spkTools.buildbin-libdir && mkdir spkTools.buildbin-libdir && /Users/biocbuild/BBS/utils/build-universal.sh spkTools_1.64.0.tar.gz /Library/Frameworks/R.framework/Resources/bin/R spkTools.buildbin-libdir StartedAt: 2025-10-01 20:40:05 -0400 (Wed, 01 Oct 2025) EndedAt: 2025-10-01 20:40:13 -0400 (Wed, 01 Oct 2025) EllapsedTime: 7.8 seconds RetCode: 0 Status: OK PackageFile: spkTools_1.64.0.tgz PackageFileSize: 839.7 KiB