Package: spikeLI Version: 2.67.0 Command: E:\biocbuild\bbs-3.21-bioc\R\bin\R.exe CMD check --no-multiarch --install=check:spikeLI.install-out.txt --library=E:\biocbuild\bbs-3.21-bioc\R\library --no-vignettes --timings spikeLI_2.67.0.tar.gz StartedAt: 2025-02-19 05:39:18 -0500 (Wed, 19 Feb 2025) EndedAt: 2025-02-19 05:39:49 -0500 (Wed, 19 Feb 2025) EllapsedTime: 31.0 seconds RetCode: 0 Status: OK CheckDir: spikeLI.Rcheck Warnings: 0