Package: spikeLI Version: 2.67.0 Command: chmod a+r spikeLI -R && E:\biocbuild\bbs-3.21-bioc\R\bin\R.exe CMD build --keep-empty-dirs --no-resave-data spikeLI StartedAt: 2025-02-18 21:47:41 -0500 (Tue, 18 Feb 2025) EndedAt: 2025-02-18 21:47:57 -0500 (Tue, 18 Feb 2025) EllapsedTime: 15.8 seconds RetCode: 0 Status: OK PackageFile: spikeLI_2.67.0.tar.gz PackageFileSize: 290.9 KiB