Package: spikeLI Version: 2.67.0 Command: /home/biocbuild/bbs-3.21-bioc/R/bin/R CMD INSTALL spikeLI StartedAt: 2025-02-18 15:01:48 -0500 (Tue, 18 Feb 2025) EndedAt: 2025-02-18 15:02:02 -0500 (Tue, 18 Feb 2025) EllapsedTime: 13.7 seconds RetCode: 0 Status: OK