Package: spikeLI Version: 2.67.0 Command: /Library/Frameworks/R.framework/Resources/bin/R CMD check --install=check:spikeLI.install-out.txt --library=/Library/Frameworks/R.framework/Resources/library --no-vignettes --timings spikeLI_2.67.0.tar.gz StartedAt: 2025-02-18 23:24:17 -0500 (Tue, 18 Feb 2025) EndedAt: 2025-02-18 23:24:48 -0500 (Tue, 18 Feb 2025) EllapsedTime: 31.1 seconds RetCode: 0 Status: OK CheckDir: spikeLI.Rcheck Warnings: 0