Package: spicyR Version: 1.19.3 Command: E:\biocbuild\bbs-3.21-bioc\R\bin\R.exe CMD INSTALL spicyR StartedAt: 2025-02-20 16:58:22 -0500 (Thu, 20 Feb 2025) EndedAt: 2025-02-20 16:59:15 -0500 (Thu, 20 Feb 2025) EllapsedTime: 52.7 seconds RetCode: 0 Status: OK