Package: spicyR Version: 1.19.3 Command: E:\biocbuild\bbs-3.21-bioc\R\bin\R.exe CMD check --no-multiarch --install=check:spicyR.install-out.txt --library=E:\biocbuild\bbs-3.21-bioc\R\library --no-vignettes --timings spicyR_1.19.3.tar.gz StartedAt: 2025-02-21 06:05:25 -0500 (Fri, 21 Feb 2025) EndedAt: 2025-02-21 06:12:06 -0500 (Fri, 21 Feb 2025) EllapsedTime: 400.6 seconds RetCode: 0 Status: OK CheckDir: spicyR.Rcheck Warnings: 0