Package: spicyR Version: 1.19.3 Command: /home/biocbuild/bbs-3.21-bioc/R/bin/R CMD check --install=check:spicyR.install-out.txt --library=/home/biocbuild/bbs-3.21-bioc/R/site-library --timings spicyR_1.19.3.tar.gz StartedAt: 2025-02-22 02:31:58 -0500 (Sat, 22 Feb 2025) EndedAt: 2025-02-22 02:41:40 -0500 (Sat, 22 Feb 2025) EllapsedTime: 582.8 seconds RetCode: 0 Status: OK CheckDir: spicyR.Rcheck Warnings: 0