Package: spicyR Version: 1.19.3 Command: /home/biocbuild/bbs-3.21-bioc/R/bin/R CMD build --keep-empty-dirs --no-resave-data spicyR StartedAt: 2025-02-21 19:47:08 -0500 (Fri, 21 Feb 2025) EndedAt: 2025-02-21 19:51:51 -0500 (Fri, 21 Feb 2025) EllapsedTime: 283.4 seconds RetCode: 0 Status: OK PackageFile: spicyR_1.19.3.tar.gz PackageFileSize: 3.158 MiB