Package: spicyR Version: 1.19.3 Command: /Library/Frameworks/R.framework/Resources/bin/R CMD build --keep-empty-dirs --no-resave-data spicyR StartedAt: 2025-02-20 18:23:10 -0500 (Thu, 20 Feb 2025) EndedAt: 2025-02-20 18:28:18 -0500 (Thu, 20 Feb 2025) EllapsedTime: 308.3 seconds RetCode: 0 Status: OK PackageFile: spicyR_1.19.3.tar.gz PackageFileSize: 3.277 MiB