Package: spicyR Version: 1.19.3 Command: rm -rf spicyR.buildbin-libdir && mkdir spicyR.buildbin-libdir && /Users/biocbuild/BBS/utils/build-universal.sh spicyR_1.19.3.tar.gz /Library/Frameworks/R.framework/Resources/bin/R spicyR.buildbin-libdir StartedAt: 2025-02-21 00:55:31 -0500 (Fri, 21 Feb 2025) EndedAt: 2025-02-21 00:56:23 -0500 (Fri, 21 Feb 2025) EllapsedTime: 52.0 seconds RetCode: 0 Status: OK PackageFile: spicyR_1.19.3.tgz PackageFileSize: 3.809 MiB