Package: spicyR Version: 1.19.3 Command: /Library/Frameworks/R.framework/Resources/bin/R CMD check --install=check:spicyR.install-out.txt --library=/Library/Frameworks/R.framework/Resources/library --no-vignettes --timings spicyR_1.19.3.tar.gz StartedAt: 2025-02-20 21:37:04 -0500 (Thu, 20 Feb 2025) EndedAt: 2025-02-20 21:39:05 -0500 (Thu, 20 Feb 2025) EllapsedTime: 121.4 seconds RetCode: 0 Status: OK CheckDir: spicyR.Rcheck Warnings: 0