Package: spicyR Version: 1.19.3 Command: /Library/Frameworks/R.framework/Resources/bin/R CMD build --keep-empty-dirs --no-resave-data spicyR StartedAt: 2025-02-20 17:42:00 -0500 (Thu, 20 Feb 2025) EndedAt: 2025-02-20 17:43:49 -0500 (Thu, 20 Feb 2025) EllapsedTime: 109.2 seconds RetCode: 0 Status: OK PackageFile: spicyR_1.19.3.tar.gz PackageFileSize: 3.278 MiB